Package: GenomicDataCommons Version: 1.32.1 Command: /Library/Frameworks/R.framework/Resources/bin/R CMD INSTALL GenomicDataCommons StartedAt: 2025-05-22 15:31:24 -0400 (Thu, 22 May 2025) EndedAt: 2025-05-22 15:31:50 -0400 (Thu, 22 May 2025) EllapsedTime: 25.6 seconds RetCode: 0 Status: OK