Package: GenomicAlignments Version: 1.42.0 Command: /home/biocbuild/R/R/bin/R CMD build --keep-empty-dirs --no-resave-data GenomicAlignments StartedAt: 2025-01-30 23:48:54 -0000 (Thu, 30 Jan 2025) EndedAt: 2025-01-30 23:50:51 -0000 (Thu, 30 Jan 2025) EllapsedTime: 117.0 seconds RetCode: 0 Status: OK PackageFile: GenomicAlignments_1.42.0.tar.gz PackageFileSize: 2.168 MiB