Package: GenomicAlignments Version: 1.44.0 Command: rm -rf GenomicAlignments.buildbin-libdir && mkdir GenomicAlignments.buildbin-libdir && E:\biocbuild\bbs-3.21-bioc\R\bin\R.exe CMD INSTALL --build --library=GenomicAlignments.buildbin-libdir GenomicAlignments_1.44.0.tar.gz StartedAt: 2025-08-15 09:21:40 -0400 (Fri, 15 Aug 2025) EndedAt: 2025-08-15 09:25:34 -0400 (Fri, 15 Aug 2025) EllapsedTime: 234.3 seconds RetCode: 0 Status: OK PackageFile: GenomicAlignments_1.44.0.zip PackageFileSize: 2.279 MiB