Package: GenomeInfoDb Version: 1.42.3 Command: /Library/Frameworks/R.framework/Resources/bin/R CMD INSTALL GenomeInfoDb StartedAt: 2025-01-30 15:14:14 -0500 (Thu, 30 Jan 2025) EndedAt: 2025-01-30 15:14:49 -0500 (Thu, 30 Jan 2025) EllapsedTime: 35.4 seconds RetCode: 0 Status: OK