Package: GenomeInfoDb Version: 1.44.0 Command: /Library/Frameworks/R.framework/Resources/bin/R CMD build --keep-empty-dirs --no-resave-data GenomeInfoDb StartedAt: 2025-05-01 19:08:38 -0400 (Thu, 01 May 2025) EndedAt: 2025-05-01 19:09:49 -0400 (Thu, 01 May 2025) EllapsedTime: 70.9 seconds RetCode: 0 Status: OK PackageFile: GenomeInfoDb_1.44.0.tar.gz PackageFileSize: 3.418 MiB