Package: GenomeInfoDb Version: 1.42.3 Command: rm -rf GenomeInfoDb.buildbin-libdir && mkdir GenomeInfoDb.buildbin-libdir && /Users/biocbuild/BBS/utils/build-universal.sh GenomeInfoDb_1.42.3.tar.gz /Library/Frameworks/R.framework/Resources/bin/R GenomeInfoDb.buildbin-libdir StartedAt: 2025-01-31 12:52:10 -0500 (Fri, 31 Jan 2025) EndedAt: 2025-01-31 12:52:43 -0500 (Fri, 31 Jan 2025) EllapsedTime: 33.5 seconds RetCode: 0 Status: OK PackageFile: GenomeInfoDb_1.42.3.tgz PackageFileSize: 3.985 MiB