Package: GenomeInfoDb Version: 1.44.0 Command: /Library/Frameworks/R.framework/Resources/bin/R CMD INSTALL GenomeInfoDb StartedAt: 2025-04-21 15:14:20 -0400 (Mon, 21 Apr 2025) EndedAt: 2025-04-21 15:14:47 -0400 (Mon, 21 Apr 2025) EllapsedTime: 27.0 seconds RetCode: 0 Status: OK