Package: GenomeInfoDb Version: 1.44.0 Command: /Library/Frameworks/R.framework/Resources/bin/R CMD build --keep-empty-dirs --no-resave-data GenomeInfoDb StartedAt: 2025-04-21 16:54:27 -0400 (Mon, 21 Apr 2025) EndedAt: 2025-04-21 16:55:09 -0400 (Mon, 21 Apr 2025) EllapsedTime: 42.3 seconds RetCode: 0 Status: OK PackageFile: GenomeInfoDb_1.44.0.tar.gz PackageFileSize: 3.419 MiB