Package: GenomeInfoDb Version: 1.44.0 Command: rm -rf GenomeInfoDb.buildbin-libdir && mkdir GenomeInfoDb.buildbin-libdir && /Users/biocbuild/BBS/utils/build-universal.sh GenomeInfoDb_1.44.0.tar.gz /Library/Frameworks/R.framework/Resources/bin/R GenomeInfoDb.buildbin-libdir StartedAt: 2025-04-22 00:47:03 -0400 (Tue, 22 Apr 2025) EndedAt: 2025-04-22 00:47:25 -0400 (Tue, 22 Apr 2025) EllapsedTime: 21.9 seconds RetCode: 0 Status: OK PackageFile: GenomeInfoDb_1.44.0.tgz PackageFileSize: 3.984 MiB