Package: GenomeInfoDb Version: 1.44.0 Command: /Library/Frameworks/R.framework/Resources/bin/R CMD INSTALL GenomeInfoDb StartedAt: 2025-04-21 15:07:25 -0400 (Mon, 21 Apr 2025) EndedAt: 2025-04-21 15:07:30 -0400 (Mon, 21 Apr 2025) EllapsedTime: 4.6 seconds RetCode: 0 Status: OK