Package: GenomAutomorphism Version: 1.8.1 Command: /home/biocbuild/bbs-3.20-bioc/R/bin/R CMD INSTALL GenomAutomorphism StartedAt: 2025-01-30 16:02:01 -0500 (Thu, 30 Jan 2025) EndedAt: 2025-01-30 16:02:23 -0500 (Thu, 30 Jan 2025) EllapsedTime: 21.6 seconds RetCode: 0 Status: OK