Package: GeneStructureTools Version: 1.28.0 Command: rm -rf GeneStructureTools.buildbin-libdir && mkdir GeneStructureTools.buildbin-libdir && E:\biocbuild\bbs-3.21-bioc\R\bin\R.exe CMD INSTALL --build --library=GeneStructureTools.buildbin-libdir GeneStructureTools_1.28.0.tar.gz StartedAt: 2025-08-15 09:21:22 -0400 (Fri, 15 Aug 2025) EndedAt: 2025-08-15 09:23:12 -0400 (Fri, 15 Aug 2025) EllapsedTime: 110.8 seconds RetCode: 0 Status: OK PackageFile: GeneStructureTools_1.28.0.zip PackageFileSize: 1.669 MiB