Package: GeneSelectMMD Version: 2.50.0 Command: /home/biocbuild/R/R/bin/R CMD check --install=check:GeneSelectMMD.install-out.txt --library=/home/biocbuild/R/R/site-library --no-vignettes --timings GeneSelectMMD_2.50.0.tar.gz StartedAt: 2025-01-31 06:31:33 -0000 (Fri, 31 Jan 2025) EndedAt: 2025-01-31 06:32:06 -0000 (Fri, 31 Jan 2025) EllapsedTime: 33.1 seconds RetCode: 0 Status: WARNINGS CheckDir: GeneSelectMMD.Rcheck Warnings: 1