Package: GeneOverlap Version: 1.44.0 Command: /Library/Frameworks/R.framework/Resources/bin/R CMD check --install=check:GeneOverlap.install-out.txt --library=/Library/Frameworks/R.framework/Resources/library --no-vignettes --timings GeneOverlap_1.44.0.tar.gz StartedAt: 2025-05-13 04:18:11 -0400 (Tue, 13 May 2025) EndedAt: 2025-05-13 04:18:58 -0400 (Tue, 13 May 2025) EllapsedTime: 47.0 seconds RetCode: 0 Status: OK CheckDir: GeneOverlap.Rcheck Warnings: 0