Package: GeneGeneInteR Version: 1.32.0 Command: /Library/Frameworks/R.framework/Resources/bin/R CMD check --install=check:GeneGeneInteR.install-out.txt --library=/Library/Frameworks/R.framework/Resources/library --no-vignettes --timings GeneGeneInteR_1.32.0.tar.gz StartedAt: 2025-01-31 20:09:06 -0500 (Fri, 31 Jan 2025) EndedAt: 2025-01-31 20:11:53 -0500 (Fri, 31 Jan 2025) EllapsedTime: 166.7 seconds RetCode: 0 Status: OK CheckDir: GeneGeneInteR.Rcheck Warnings: 0