Package: GeneBreak Version: 1.38.0 Maintainer: Evert van den Broek MaintainerEmail: vandenbroek.evert at gmail.com git_url: https://git.bioconductor.org/packages/GeneBreak git_branch: RELEASE_3_21 git_last_commit: 092168b git_last_commit_date: 2025-04-15 10:55:57 -0400 (Tue, 15 Apr 2025)