Package: GenVisR Version: 1.40.0 Command: /home/biocbuild/R/R/bin/R CMD check --install=check:GenVisR.install-out.txt --library=/home/biocbuild/R/R/site-library --no-vignettes --timings GenVisR_1.40.0.tar.gz StartedAt: 2025-05-09 09:07:09 -0000 (Fri, 09 May 2025) EndedAt: 2025-05-09 09:17:44 -0000 (Fri, 09 May 2025) EllapsedTime: 634.4 seconds RetCode: 1 Status: ERROR CheckDir: GenVisR.Rcheck Warnings: NA