Package: GenVisR Version: 1.40.0 Command: rm -rf GenVisR.buildbin-libdir && mkdir GenVisR.buildbin-libdir && /Users/biocbuild/BBS/utils/build-universal.sh GenVisR_1.40.0.tar.gz /Library/Frameworks/R.framework/Resources/bin/R GenVisR.buildbin-libdir StartedAt: 2025-05-14 15:10:39 -0400 (Wed, 14 May 2025) EndedAt: 2025-05-14 15:11:43 -0400 (Wed, 14 May 2025) EllapsedTime: 64.0 seconds RetCode: 0 Status: OK PackageFile: GenVisR_1.40.0.tgz PackageFileSize: 3.403 MiB