Package: GeDi Version: 1.2.0 Command: /home/biocbuild/R/R/bin/R CMD INSTALL GeDi StartedAt: 2025-01-30 20:59:01 -0000 (Thu, 30 Jan 2025) EndedAt: 2025-01-30 21:00:03 -0000 (Thu, 30 Jan 2025) EllapsedTime: 61.5 seconds RetCode: 0 Status: OK