Package: GeDi Version: 1.2.0 Command: chmod a+r GeDi -R && F:\biocbuild\bbs-3.20-bioc\R\bin\R.exe CMD build --keep-empty-dirs --no-resave-data GeDi StartedAt: 2025-01-30 19:04:56 -0500 (Thu, 30 Jan 2025) EndedAt: 2025-01-30 19:08:59 -0500 (Thu, 30 Jan 2025) EllapsedTime: 242.8 seconds RetCode: 0 Status: OK PackageFile: GeDi_1.2.0.tar.gz PackageFileSize: 3.413 MiB