Package: GeDi
Version: 1.1.1
Command: rm -rf GeDi.buildbin-libdir && mkdir GeDi.buildbin-libdir && C:\Users\biocbuild\bbs-3.20-bioc\R\bin\R.exe CMD INSTALL --build --library=GeDi.buildbin-libdir GeDi_1.1.1.tar.gz
StartedAt: 2024-07-16 06:13:23 -0400 (Tue, 16 Jul 2024)
EndedAt: 2024-07-16 06:14:11 -0400 (Tue, 16 Jul 2024)
EllapsedTime: 48.1 seconds
RetCode: 0
Status: OK
PackageFile: GeDi_1.1.1.zip
PackageFileSize: 2.758 <A href="http://en.wikipedia.org/wiki/MiB" target="_blank">MiB</A>