Package: GeDi Version: 1.2.0 Command: /Library/Frameworks/R.framework/Resources/bin/R CMD INSTALL GeDi StartedAt: 2025-01-30 17:44:23 -0500 (Thu, 30 Jan 2025) EndedAt: 2025-01-30 17:45:22 -0500 (Thu, 30 Jan 2025) EllapsedTime: 59.0 seconds RetCode: 0 Status: OK