Package: GeDi Version: 1.4.0 Command: /Library/Frameworks/R.framework/Resources/bin/R CMD build --keep-empty-dirs --no-resave-data GeDi StartedAt: 2025-05-02 00:25:23 -0400 (Fri, 02 May 2025) EndedAt: 2025-05-02 00:28:48 -0400 (Fri, 02 May 2025) EllapsedTime: 205.2 seconds RetCode: 0 Status: OK PackageFile: GeDi_1.4.0.tar.gz PackageFileSize: 3.413 MiB