Package: GeDi Version: 1.4.0 Command: rm -rf GeDi.buildbin-libdir && mkdir GeDi.buildbin-libdir && /Users/biocbuild/BBS/utils/build-universal.sh GeDi_1.4.0.tar.gz /Library/Frameworks/R.framework/Resources/bin/R GeDi.buildbin-libdir StartedAt: 2025-05-03 15:43:55 -0400 (Sat, 03 May 2025) EndedAt: 2025-05-03 15:45:00 -0400 (Sat, 03 May 2025) EllapsedTime: 64.8 seconds RetCode: 0 Status: OK PackageFile: GeDi_1.4.0.tgz PackageFileSize: 2.777 MiB