Package: GateFinder Version: 1.26.0 Command: rm -rf GateFinder.buildbin-libdir && mkdir GateFinder.buildbin-libdir && F:\biocbuild\bbs-3.20-bioc\R\bin\R.exe CMD INSTALL --build --library=GateFinder.buildbin-libdir GateFinder_1.26.0.tar.gz StartedAt: 2025-01-31 08:41:22 -0500 (Fri, 31 Jan 2025) EndedAt: 2025-01-31 08:41:51 -0500 (Fri, 31 Jan 2025) EllapsedTime: 28.3 seconds RetCode: 0 Status: OK PackageFile: GateFinder_1.26.0.zip PackageFileSize: 864.9 KiB