Package: GateFinder Version: 1.28.0 Command: /home/biocbuild/R/R/bin/R CMD check --install=check:GateFinder.install-out.txt --library=/home/biocbuild/R/R/site-library --no-vignettes --timings GateFinder_1.28.0.tar.gz StartedAt: 2025-04-22 09:08:47 -0000 (Tue, 22 Apr 2025) EndedAt: 2025-04-22 09:10:10 -0000 (Tue, 22 Apr 2025) EllapsedTime: 83.1 seconds RetCode: 0 Status: WARNINGS CheckDir: GateFinder.Rcheck Warnings: 1