Package: GateFinder Version: 1.28.0 Command: /Library/Frameworks/R.framework/Resources/bin/R CMD build --keep-empty-dirs --no-resave-data GateFinder StartedAt: 2025-04-21 16:23:19 -0400 (Mon, 21 Apr 2025) EndedAt: 2025-04-21 16:23:29 -0400 (Mon, 21 Apr 2025) EllapsedTime: 10.1 seconds RetCode: 0 Status: OK PackageFile: GateFinder_1.28.0.tar.gz PackageFileSize: 581.5 KiB