Package: GateFinder Version: 1.26.0 Command: /Library/Frameworks/R.framework/Resources/bin/R CMD build --keep-empty-dirs --no-resave-data GateFinder StartedAt: 2025-01-30 23:57:48 -0500 (Thu, 30 Jan 2025) EndedAt: 2025-01-30 23:58:15 -0500 (Thu, 30 Jan 2025) EllapsedTime: 27.2 seconds RetCode: 0 Status: OK PackageFile: GateFinder_1.26.0.tar.gz PackageFileSize: 581.9 KiB