Package: GateFinder Version: 1.28.0 Command: rm -rf GateFinder.buildbin-libdir && mkdir GateFinder.buildbin-libdir && /Users/biocbuild/BBS/utils/build-universal.sh GateFinder_1.28.0.tar.gz /Library/Frameworks/R.framework/Resources/bin/R GateFinder.buildbin-libdir StartedAt: 2025-05-03 15:42:26 -0400 (Sat, 03 May 2025) EndedAt: 2025-05-03 15:42:41 -0400 (Sat, 03 May 2025) EllapsedTime: 14.6 seconds RetCode: 0 Status: OK PackageFile: GateFinder_1.28.0.tgz PackageFileSize: 964.6 KiB