Package: GWASTools Version: 1.54.0 Command: /Library/Frameworks/R.framework/Resources/bin/R CMD check --install=check:GWASTools.install-out.txt --library=/Library/Frameworks/R.framework/Resources/library --no-vignettes --timings GWASTools_1.54.0.tar.gz StartedAt: 2025-04-21 19:45:50 -0400 (Mon, 21 Apr 2025) EndedAt: 2025-04-21 19:47:35 -0400 (Mon, 21 Apr 2025) EllapsedTime: 104.2 seconds RetCode: 0 Status: OK CheckDir: GWASTools.Rcheck Warnings: 0