Package: GWAS.BAYES Version: 1.18.0 Command: /home/biocbuild/R/R/bin/R CMD INSTALL GWAS.BAYES StartedAt: 2025-05-12 20:20:37 -0000 (Mon, 12 May 2025) EndedAt: 2025-05-12 20:20:55 -0000 (Mon, 12 May 2025) EllapsedTime: 17.7 seconds RetCode: 0 Status: OK