Package: GWAS.BAYES Version: 1.18.0 Maintainer: Jacob Williams MaintainerEmail: jwilliams at vt.edu git_url: https://git.bioconductor.org/packages/GWAS.BAYES git_branch: RELEASE_3_21 git_last_commit: 6dc4c8c git_last_commit_date: 2025-04-15 12:14:14 -0400 (Tue, 15 Apr 2025)