Package: GSgalgoR Version: 1.18.0 Maintainer: Carlos Catania MaintainerEmail: harpomaxx at gmail.com git_url: https://git.bioconductor.org/packages/GSgalgoR git_branch: RELEASE_3_21 git_last_commit: 326c6fc git_last_commit_date: 2025-04-15 12:14:49 -0400 (Tue, 15 Apr 2025)