Package: GSVA Version: 2.0.5 Command: /home/biocbuild/R/R/bin/R CMD check --install=check:GSVA.install-out.txt --library=/home/biocbuild/R/R/site-library --no-vignettes --timings GSVA_2.0.5.tar.gz StartedAt: 2025-01-31 06:59:36 -0000 (Fri, 31 Jan 2025) EndedAt: 2025-01-31 07:10:26 -0000 (Fri, 31 Jan 2025) EllapsedTime: 649.6 seconds RetCode: 0 Status: OK CheckDir: GSVA.Rcheck Warnings: 0