Package: GSVA Version: 2.2.0 Command: /Library/Frameworks/R.framework/Resources/bin/R CMD INSTALL GSVA StartedAt: 2025-04-28 20:10:27 -0400 (Mon, 28 Apr 2025) EndedAt: 2025-04-28 20:11:52 -0400 (Mon, 28 Apr 2025) EllapsedTime: 85.6 seconds RetCode: 0 Status: OK