Package: GSVA Version: 2.2.0 Command: /Library/Frameworks/R.framework/Resources/bin/R CMD build --keep-empty-dirs --no-resave-data GSVA StartedAt: 2025-04-21 16:34:04 -0400 (Mon, 21 Apr 2025) EndedAt: 2025-04-21 16:34:56 -0400 (Mon, 21 Apr 2025) EllapsedTime: 52.6 seconds RetCode: 0 Status: OK PackageFile: GSVA_2.2.0.tar.gz PackageFileSize: 2.695 MiB