Package: GSVA Version: 2.0.5 Command: /Library/Frameworks/R.framework/Resources/bin/R CMD check --install=check:GSVA.install-out.txt --library=/Library/Frameworks/R.framework/Resources/library --no-vignettes --timings GSVA_2.0.5.tar.gz StartedAt: 2025-01-31 21:30:51 -0500 (Fri, 31 Jan 2025) EndedAt: 2025-01-31 21:40:54 -0500 (Fri, 31 Jan 2025) EllapsedTime: 602.6 seconds RetCode: 0 Status: OK CheckDir: GSVA.Rcheck Warnings: 0