Package: GSVA Version: 2.2.0 Command: /Library/Frameworks/R.framework/Resources/bin/R CMD build --keep-empty-dirs --no-resave-data GSVA StartedAt: 2025-04-25 02:55:12 -0400 (Fri, 25 Apr 2025) EndedAt: 2025-04-25 02:57:29 -0400 (Fri, 25 Apr 2025) EllapsedTime: 137.6 seconds RetCode: 0 Status: OK PackageFile: GSVA_2.2.0.tar.gz PackageFileSize: 2.63 MiB