Package: GSEAmining Version: 1.16.0 Command: /home/biocbuild/R/R/bin/R CMD check --install=check:GSEAmining.install-out.txt --library=/home/biocbuild/R/R/site-library --no-vignettes --timings GSEAmining_1.16.0.tar.gz StartedAt: 2025-01-31 06:58:08 -0000 (Fri, 31 Jan 2025) EndedAt: 2025-01-31 06:59:36 -0000 (Fri, 31 Jan 2025) EllapsedTime: 88.1 seconds RetCode: 0 Status: OK CheckDir: GSEAmining.Rcheck Warnings: 0