Package: GSEAlm Version: 1.66.0 Command: /home/biocbuild/bbs-3.20-bioc/R/bin/R CMD build --keep-empty-dirs --no-resave-data --md5 GSEAlm StartedAt: 2025-01-02 17:35:21 -0500 (Thu, 02 Jan 2025) EndedAt: 2025-01-02 17:36:04 -0500 (Thu, 02 Jan 2025) EllapsedTime: 43.0 seconds RetCode: 0 Status: OK PackageFile: GSEAlm_1.66.0.tar.gz PackageFileSize: 1.249 MiB