Package: GSEAlm Version: 1.68.0 Maintainer: Assaf Oron MaintainerEmail: assaf at uw.edu git_url: https://git.bioconductor.org/packages/GSEAlm git_branch: RELEASE_3_21 git_last_commit: f593dce git_last_commit_date: 2025-04-15 09:41:37 -0400 (Tue, 15 Apr 2025)