Package: GSEABenchmarkeR Version: 1.26.0 Command: /home/biocbuild/R/R/bin/R CMD INSTALL GSEABenchmarkeR StartedAt: 2025-02-03 20:42:34 -0000 (Mon, 03 Feb 2025) EndedAt: 2025-02-03 20:43:00 -0000 (Mon, 03 Feb 2025) EllapsedTime: 25.9 seconds RetCode: 0 Status: OK