Package: GSEABenchmarkeR Version: 1.26.0 Command: /home/biocbuild/R/R/bin/R CMD check --install=check:GSEABenchmarkeR.install-out.txt --library=/home/biocbuild/R/R/site-library --no-vignettes --timings GSEABenchmarkeR_1.26.0.tar.gz StartedAt: 2025-02-04 07:39:58 -0000 (Tue, 04 Feb 2025) EndedAt: 2025-02-04 08:19:59 -0000 (Tue, 04 Feb 2025) EllapsedTime: 2400.5 seconds RetCode: None Status: TIMEOUT CheckDir: GSEABenchmarkeR.Rcheck Warnings: NA