Package: GSCA Version: 2.36.0 Command: /home/biocbuild/R/R/bin/R CMD INSTALL GSCA StartedAt: 2025-01-30 20:39:20 -0000 (Thu, 30 Jan 2025) EndedAt: 2025-01-30 20:39:27 -0000 (Thu, 30 Jan 2025) EllapsedTime: 6.6 seconds RetCode: 0 Status: OK