Package: GSCA Version: 2.36.0 Command: /Library/Frameworks/R.framework/Resources/bin/R CMD INSTALL GSCA StartedAt: 2025-01-30 15:56:52 -0500 (Thu, 30 Jan 2025) EndedAt: 2025-01-30 15:57:06 -0500 (Thu, 30 Jan 2025) EllapsedTime: 13.9 seconds RetCode: 0 Status: OK