Package: GSCA Version: 2.36.0 Command: rm -rf GSCA.buildbin-libdir && mkdir GSCA.buildbin-libdir && /Users/biocbuild/BBS/utils/build-universal.sh GSCA_2.36.0.tar.gz /Library/Frameworks/R.framework/Resources/bin/R GSCA.buildbin-libdir StartedAt: 2025-01-31 12:56:20 -0500 (Fri, 31 Jan 2025) EndedAt: 2025-01-31 12:56:35 -0500 (Fri, 31 Jan 2025) EllapsedTime: 15.3 seconds RetCode: 0 Status: OK PackageFile: GSCA_2.36.0.tgz PackageFileSize: 2.347 MiB