Package: GSAR Version: 1.42.0 Command: /Library/Frameworks/R.framework/Resources/bin/R CMD build --keep-empty-dirs --no-resave-data GSAR StartedAt: 2025-05-01 19:24:48 -0400 (Thu, 01 May 2025) EndedAt: 2025-05-01 19:35:04 -0400 (Thu, 01 May 2025) EllapsedTime: 616.1 seconds RetCode: 0 Status: OK PackageFile: GSAR_1.42.0.tar.gz PackageFileSize: 1.774 MiB