Package: GSAR Version: 1.40.0 Command: /Library/Frameworks/R.framework/Resources/bin/R CMD build --keep-empty-dirs --no-resave-data GSAR StartedAt: 2024-11-08 17:35:53 -0500 (Fri, 08 Nov 2024) EndedAt: 2024-11-08 17:37:40 -0500 (Fri, 08 Nov 2024) EllapsedTime: 107.2 seconds RetCode: 0 Status: OK PackageFile: GSAR_1.40.0.tar.gz PackageFileSize: 1.777 MiB