Package: GSALightning Version: 1.34.0 Command: F:\biocbuild\bbs-3.20-bioc\R\bin\R.exe CMD check --no-multiarch --install=check:GSALightning.install-out.txt --library=F:\biocbuild\bbs-3.20-bioc\R\library --no-vignettes --timings GSALightning_1.34.0.tar.gz StartedAt: 2025-01-31 02:42:03 -0500 (Fri, 31 Jan 2025) EndedAt: 2025-01-31 02:43:00 -0500 (Fri, 31 Jan 2025) EllapsedTime: 57.0 seconds RetCode: 0 Status: OK CheckDir: GSALightning.Rcheck Warnings: 0