Package: GSALightning Version: 1.34.0 Command: /Library/Frameworks/R.framework/Resources/bin/R CMD check --install=check:GSALightning.install-out.txt --library=/Library/Frameworks/R.framework/Resources/library --no-vignettes --timings GSALightning_1.34.0.tar.gz StartedAt: 2025-01-31 04:49:41 -0500 (Fri, 31 Jan 2025) EndedAt: 2025-01-31 04:51:11 -0500 (Fri, 31 Jan 2025) EllapsedTime: 90.2 seconds RetCode: 0 Status: OK CheckDir: GSALightning.Rcheck Warnings: 0